BEGIN:VCALENDAR
VERSION:2.0
PRODID:-//MFA De Tynje - ECPv6.15.20//NONSGML v1.0//EN
CALSCALE:GREGORIAN
METHOD:PUBLISH
X-ORIGINAL-URL:https://mfadetynje.nl
X-WR-CALDESC:Evenementen voor MFA De Tynje
REFRESH-INTERVAL;VALUE=DURATION:PT1H
X-Robots-Tag:noindex
X-PUBLISHED-TTL:PT1H
BEGIN:VTIMEZONE
TZID:Europe/Paris
BEGIN:DAYLIGHT
TZOFFSETFROM:+0100
TZOFFSETTO:+0200
TZNAME:CEST
DTSTART:20240331T010000
END:DAYLIGHT
BEGIN:STANDARD
TZOFFSETFROM:+0200
TZOFFSETTO:+0100
TZNAME:CET
DTSTART:20241027T010000
END:STANDARD
BEGIN:DAYLIGHT
TZOFFSETFROM:+0100
TZOFFSETTO:+0200
TZNAME:CEST
DTSTART:20250330T010000
END:DAYLIGHT
BEGIN:STANDARD
TZOFFSETFROM:+0200
TZOFFSETTO:+0100
TZNAME:CET
DTSTART:20251026T010000
END:STANDARD
BEGIN:DAYLIGHT
TZOFFSETFROM:+0100
TZOFFSETTO:+0200
TZNAME:CEST
DTSTART:20260329T010000
END:DAYLIGHT
BEGIN:STANDARD
TZOFFSETFROM:+0200
TZOFFSETTO:+0100
TZNAME:CET
DTSTART:20261025T010000
END:STANDARD
END:VTIMEZONE
BEGIN:VEVENT
DTSTART;TZID=Europe/Paris:20250604T130000
DTEND;TZID=Europe/Paris:20250604T133000
DTSTAMP:20260420T144439
CREATED:20250410T184036Z
LAST-MODIFIED:20250410T184036Z
UID:420-1749042000-1749043800@mfadetynje.nl
SUMMARY:Speel-O-Theek
DESCRIPTION:
URL:https://mfadetynje.nl/evenement/speel-o-theek-4/
END:VEVENT
BEGIN:VEVENT
DTSTART;TZID=Europe/Paris:20250606T193000
DTEND;TZID=Europe/Paris:20250606T213000
DTSTAMP:20260420T144439
CREATED:20250410T182607Z
LAST-MODIFIED:20250410T182631Z
UID:391-1749238200-1749245400@mfadetynje.nl
SUMMARY:Stratenvolleybal 2025
DESCRIPTION:Op 6 juni organiseert de Volleybalvereniging samen met de activiteiten commissie het 31ste Tynster Stratenvolleybal. \nDeelnemende teams bestaan uit gemengde teams met minimaal drie dames in het veld. Een team bestaan minimaal uit 6 tot maximaal 8 personen. Er mogen meerdere teams vanuit dezelfde straat meedoen. Aan het toernooi kunnen maximaal 24 teams meedoen. Let op\, vol is vol!
URL:https://mfadetynje.nl/evenement/stratenvolleybal/
END:VEVENT
BEGIN:VEVENT
DTSTART;TZID=Europe/Paris:20250607T090000
DTEND;TZID=Europe/Paris:20250607T180000
DTSTAMP:20260420T144439
CREATED:20250410T184347Z
LAST-MODIFIED:20250410T184347Z
UID:426-1749286800-1749319200@mfadetynje.nl
SUMMARY:Rein Pieter Reinsma toernooi
DESCRIPTION:
URL:https://mfadetynje.nl/evenement/rein-pieter-reinsma-toernooi/
ATTACH;FMTTYPE=image/png:https://mfadetynje.nl/wp-content/uploads/2025/01/98970_logo_voetbal_tijnje_groen.png
ORGANIZER;CN="Voetbal":MAILTO:info@vv-tijnje.nl
END:VEVENT
BEGIN:VEVENT
DTSTART;TZID=Europe/Paris:20250608T090000
DTEND;TZID=Europe/Paris:20250608T180000
DTSTAMP:20260420T144439
CREATED:20250410T184433Z
LAST-MODIFIED:20250410T184433Z
UID:429-1749373200-1749405600@mfadetynje.nl
SUMMARY:Rein Pieter Reinsma toernooi
DESCRIPTION:
URL:https://mfadetynje.nl/evenement/rein-pieter-reinsma-toernooi-2/
ATTACH;FMTTYPE=image/png:https://mfadetynje.nl/wp-content/uploads/2025/01/98970_logo_voetbal_tijnje_groen.png
ORGANIZER;CN="Voetbal":MAILTO:info@vv-tijnje.nl
END:VEVENT
BEGIN:VEVENT
DTSTART;TZID=Europe/Paris:20250620T130000
DTEND;TZID=Europe/Paris:20250620T133000
DTSTAMP:20260420T144439
CREATED:20250410T184112Z
LAST-MODIFIED:20250410T184112Z
UID:423-1750424400-1750426200@mfadetynje.nl
SUMMARY:Speel-O-Theek
DESCRIPTION:
URL:https://mfadetynje.nl/evenement/speel-o-theek-5/
END:VEVENT
BEGIN:VEVENT
DTSTART;TZID=Europe/Paris:20250628T180000
DTEND;TZID=Europe/Paris:20250629T000000
DTSTAMP:20260420T144439
CREATED:20250410T182911Z
LAST-MODIFIED:20250410T182911Z
UID:395-1751133600-1751155200@mfadetynje.nl
SUMMARY:Vrijwilligersfeest MFA De Tynje
DESCRIPTION:Verdere info volgt. Zet de datum alvast in de agenda wanneer je betrokken bent geweest bij de realisatie van de MFA De Tynje. \n \n 
URL:https://mfadetynje.nl/evenement/vrijwilligersfeest-mfa-de-tynje/
ORGANIZER;CN="MFA De Tynje":MAILTO:activiteiten@mfadetynje.nl
END:VEVENT
END:VCALENDAR