BEGIN:VCALENDAR
VERSION:2.0
PRODID:-//MFA De Tynje - ECPv6.15.20//NONSGML v1.0//EN
CALSCALE:GREGORIAN
METHOD:PUBLISH
X-WR-CALNAME:MFA De Tynje
X-ORIGINAL-URL:https://mfadetynje.nl
X-WR-CALDESC:Evenementen voor MFA De Tynje
REFRESH-INTERVAL;VALUE=DURATION:PT1H
X-Robots-Tag:noindex
X-PUBLISHED-TTL:PT1H
BEGIN:VTIMEZONE
TZID:Europe/Paris
BEGIN:DAYLIGHT
TZOFFSETFROM:+0100
TZOFFSETTO:+0200
TZNAME:CEST
DTSTART:20240331T010000
END:DAYLIGHT
BEGIN:STANDARD
TZOFFSETFROM:+0200
TZOFFSETTO:+0100
TZNAME:CET
DTSTART:20241027T010000
END:STANDARD
BEGIN:DAYLIGHT
TZOFFSETFROM:+0100
TZOFFSETTO:+0200
TZNAME:CEST
DTSTART:20250330T010000
END:DAYLIGHT
BEGIN:STANDARD
TZOFFSETFROM:+0200
TZOFFSETTO:+0100
TZNAME:CET
DTSTART:20251026T010000
END:STANDARD
BEGIN:DAYLIGHT
TZOFFSETFROM:+0100
TZOFFSETTO:+0200
TZNAME:CEST
DTSTART:20260329T010000
END:DAYLIGHT
BEGIN:STANDARD
TZOFFSETFROM:+0200
TZOFFSETTO:+0100
TZNAME:CET
DTSTART:20261025T010000
END:STANDARD
END:VTIMEZONE
BEGIN:VEVENT
DTSTART;TZID=Europe/Paris:20250504T150000
DTEND;TZID=Europe/Paris:20250504T180000
DTSTAMP:20260420T161902
CREATED:20250410T183324Z
LAST-MODIFIED:20250410T183324Z
UID:402-1746370800-1746381600@mfadetynje.nl
SUMMARY:VV Tijnje 1 - Terschelling 1
DESCRIPTION:
URL:https://mfadetynje.nl/evenement/vv-tijnje-1-terschelling-1/
ATTACH;FMTTYPE=image/png:https://mfadetynje.nl/wp-content/uploads/2025/01/98970_logo_voetbal_tijnje_groen.png
ORGANIZER;CN="Voetbal":MAILTO:info@vv-tijnje.nl
END:VEVENT
BEGIN:VEVENT
DTSTART;TZID=Europe/Paris:20250507T130000
DTEND;TZID=Europe/Paris:20250507T133000
DTSTAMP:20260420T161902
CREATED:20250410T183935Z
LAST-MODIFIED:20250410T183935Z
UID:414-1746622800-1746624600@mfadetynje.nl
SUMMARY:Speel-O-Theek
DESCRIPTION:
URL:https://mfadetynje.nl/evenement/speel-o-theek-2/
END:VEVENT
BEGIN:VEVENT
DTSTART;TZID=Europe/Paris:20250512T200000
DTEND;TZID=Europe/Paris:20250515T213000
DTSTAMP:20260420T161902
CREATED:20250402T160206Z
LAST-MODIFIED:20250410T181446Z
UID:324-1747080000-1747344600@mfadetynje.nl
SUMMARY:Avond4daagse
DESCRIPTION:test
URL:https://mfadetynje.nl/evenement/test/
ORGANIZER;CN="MFA De Tynje":MAILTO:activiteiten@mfadetynje.nl
END:VEVENT
BEGIN:VEVENT
DTSTART;TZID=Europe/Paris:20250523T130000
DTEND;TZID=Europe/Paris:20250523T133000
DTSTAMP:20260420T161902
CREATED:20250410T184005Z
LAST-MODIFIED:20250410T184005Z
UID:417-1748005200-1748007000@mfadetynje.nl
SUMMARY:Speel-O-Theek
DESCRIPTION:
URL:https://mfadetynje.nl/evenement/speel-o-theek-3/
END:VEVENT
BEGIN:VEVENT
DTSTART;TZID=Europe/Paris:20250525T150000
DTEND;TZID=Europe/Paris:20250525T180000
DTSTAMP:20260420T161902
CREATED:20250410T183437Z
LAST-MODIFIED:20250410T183437Z
UID:405-1748185200-1748196000@mfadetynje.nl
SUMMARY:VV Tijnje 1 - Blauwhuis 1
DESCRIPTION:
URL:https://mfadetynje.nl/evenement/vv-tijnje-1-blauwhuis-1/
ATTACH;FMTTYPE=image/png:https://mfadetynje.nl/wp-content/uploads/2025/01/98970_logo_voetbal_tijnje_groen.png
ORGANIZER;CN="Voetbal":MAILTO:info@vv-tijnje.nl
END:VEVENT
END:VCALENDAR