BEGIN:VCALENDAR
VERSION:2.0
PRODID:-//MFA De Tynje - ECPv6.15.20//NONSGML v1.0//EN
CALSCALE:GREGORIAN
METHOD:PUBLISH
X-WR-CALNAME:MFA De Tynje
X-ORIGINAL-URL:https://mfadetynje.nl
X-WR-CALDESC:Evenementen voor MFA De Tynje
REFRESH-INTERVAL;VALUE=DURATION:PT1H
X-Robots-Tag:noindex
X-PUBLISHED-TTL:PT1H
BEGIN:VTIMEZONE
TZID:Europe/Paris
BEGIN:DAYLIGHT
TZOFFSETFROM:+0100
TZOFFSETTO:+0200
TZNAME:CEST
DTSTART:20240331T010000
END:DAYLIGHT
BEGIN:STANDARD
TZOFFSETFROM:+0200
TZOFFSETTO:+0100
TZNAME:CET
DTSTART:20241027T010000
END:STANDARD
BEGIN:DAYLIGHT
TZOFFSETFROM:+0100
TZOFFSETTO:+0200
TZNAME:CEST
DTSTART:20250330T010000
END:DAYLIGHT
BEGIN:STANDARD
TZOFFSETFROM:+0200
TZOFFSETTO:+0100
TZNAME:CET
DTSTART:20251026T010000
END:STANDARD
BEGIN:DAYLIGHT
TZOFFSETFROM:+0100
TZOFFSETTO:+0200
TZNAME:CEST
DTSTART:20260329T010000
END:DAYLIGHT
BEGIN:STANDARD
TZOFFSETFROM:+0200
TZOFFSETTO:+0100
TZNAME:CET
DTSTART:20261025T010000
END:STANDARD
END:VTIMEZONE
BEGIN:VEVENT
DTSTART;TZID=Europe/Paris:20250606T193000
DTEND;TZID=Europe/Paris:20250606T213000
DTSTAMP:20260420T161903
CREATED:20250410T182607Z
LAST-MODIFIED:20250410T182631Z
UID:391-1749238200-1749245400@mfadetynje.nl
SUMMARY:Stratenvolleybal 2025
DESCRIPTION:Op 6 juni organiseert de Volleybalvereniging samen met de activiteiten commissie het 31ste Tynster Stratenvolleybal. \nDeelnemende teams bestaan uit gemengde teams met minimaal drie dames in het veld. Een team bestaan minimaal uit 6 tot maximaal 8 personen. Er mogen meerdere teams vanuit dezelfde straat meedoen. Aan het toernooi kunnen maximaal 24 teams meedoen. Let op\, vol is vol!
URL:https://mfadetynje.nl/evenement/stratenvolleybal/
END:VEVENT
END:VCALENDAR