BEGIN:VCALENDAR
VERSION:2.0
PRODID:-//MFA De Tynje - ECPv6.15.20//NONSGML v1.0//EN
CALSCALE:GREGORIAN
METHOD:PUBLISH
X-WR-CALNAME:MFA De Tynje
X-ORIGINAL-URL:https://mfadetynje.nl
X-WR-CALDESC:Evenementen voor MFA De Tynje
REFRESH-INTERVAL;VALUE=DURATION:PT1H
X-Robots-Tag:noindex
X-PUBLISHED-TTL:PT1H
BEGIN:VTIMEZONE
TZID:Europe/Paris
BEGIN:DAYLIGHT
TZOFFSETFROM:+0100
TZOFFSETTO:+0200
TZNAME:CEST
DTSTART:20240331T010000
END:DAYLIGHT
BEGIN:STANDARD
TZOFFSETFROM:+0200
TZOFFSETTO:+0100
TZNAME:CET
DTSTART:20241027T010000
END:STANDARD
BEGIN:DAYLIGHT
TZOFFSETFROM:+0100
TZOFFSETTO:+0200
TZNAME:CEST
DTSTART:20250330T010000
END:DAYLIGHT
BEGIN:STANDARD
TZOFFSETFROM:+0200
TZOFFSETTO:+0100
TZNAME:CET
DTSTART:20251026T010000
END:STANDARD
BEGIN:DAYLIGHT
TZOFFSETFROM:+0100
TZOFFSETTO:+0200
TZNAME:CEST
DTSTART:20260329T010000
END:DAYLIGHT
BEGIN:STANDARD
TZOFFSETFROM:+0200
TZOFFSETTO:+0100
TZNAME:CET
DTSTART:20261025T010000
END:STANDARD
END:VTIMEZONE
BEGIN:VEVENT
DTSTART;TZID=Europe/Paris:20250426T120000
DTEND;TZID=Europe/Paris:20250426T180000
DTSTAMP:20260420T210850
CREATED:20250402T152943Z
LAST-MODIFIED:20250410T182131Z
UID:304-1745668800-1745690400@mfadetynje.nl
SUMMARY:Koningsdag 2025
DESCRIPTION:Koningsdag 2025\nVanaf 11:00 uur de jaarlijkse vrijmarkt en er is livemuziek in het Sportcafé m.m.v. Siep Grotenhuis en Anita Hulshof. \nOok de kinderen hoeven hun niet te vervelen. Er is een vrijmarkt\, springkussens en de Jeugdsoos opent de deuren. Kom gezellig een drankje drinken en een dansje doen! \n 
URL:https://mfadetynje.nl/evenement/koningsdag-2025/
END:VEVENT
END:VCALENDAR