BEGIN:VCALENDAR
VERSION:2.0
PRODID:-//MFA De Tynje - ECPv6.15.20//NONSGML v1.0//EN
CALSCALE:GREGORIAN
METHOD:PUBLISH
X-WR-CALNAME:MFA De Tynje
X-ORIGINAL-URL:https://mfadetynje.nl
X-WR-CALDESC:Evenementen voor MFA De Tynje
REFRESH-INTERVAL;VALUE=DURATION:PT1H
X-Robots-Tag:noindex
X-PUBLISHED-TTL:PT1H
BEGIN:VTIMEZONE
TZID:Europe/Paris
BEGIN:DAYLIGHT
TZOFFSETFROM:+0100
TZOFFSETTO:+0200
TZNAME:CEST
DTSTART:20240331T010000
END:DAYLIGHT
BEGIN:STANDARD
TZOFFSETFROM:+0200
TZOFFSETTO:+0100
TZNAME:CET
DTSTART:20241027T010000
END:STANDARD
BEGIN:DAYLIGHT
TZOFFSETFROM:+0100
TZOFFSETTO:+0200
TZNAME:CEST
DTSTART:20250330T010000
END:DAYLIGHT
BEGIN:STANDARD
TZOFFSETFROM:+0200
TZOFFSETTO:+0100
TZNAME:CET
DTSTART:20251026T010000
END:STANDARD
BEGIN:DAYLIGHT
TZOFFSETFROM:+0100
TZOFFSETTO:+0200
TZNAME:CEST
DTSTART:20260329T010000
END:DAYLIGHT
BEGIN:STANDARD
TZOFFSETFROM:+0200
TZOFFSETTO:+0100
TZNAME:CET
DTSTART:20261025T010000
END:STANDARD
END:VTIMEZONE
BEGIN:VEVENT
DTSTART;TZID=Europe/Paris:20250215T200000
DTEND;TZID=Europe/Paris:20250216T003000
DTSTAMP:20260421T023718
CREATED:20250213T192358Z
LAST-MODIFIED:20250213T192358Z
UID:221-1739649600-1739665800@mfadetynje.nl
SUMMARY:Besloten feest
DESCRIPTION:
URL:https://mfadetynje.nl/evenement/besloten-feest/
LOCATION:Sportcafé
ORGANIZER;CN="MFA De Tynje":MAILTO:activiteiten@mfadetynje.nl
END:VEVENT
BEGIN:VEVENT
DTSTART;TZID=Europe/Paris:20250216T150000
DTEND;TZID=Europe/Paris:20250216T180000
DTSTAMP:20260421T023718
CREATED:20250213T192058Z
LAST-MODIFIED:20250213T192133Z
UID:216-1739718000-1739728800@mfadetynje.nl
SUMMARY:VV Tijnje 1 - Geel Wit 1
DESCRIPTION:
URL:https://mfadetynje.nl/evenement/vv-tijnje-1-geel-wit-1-2/
LOCATION:Sportcafé
ATTACH;FMTTYPE=image/png:https://mfadetynje.nl/wp-content/uploads/2025/01/98970_logo_voetbal_tijnje_groen.png
ORGANIZER;CN="Voetbal":MAILTO:info@vv-tijnje.nl
END:VEVENT
END:VCALENDAR